BEGIN:VCALENDAR
VERSION:2.0
PRODID:-//SPÖ Leobendorf - ECPv5.6.0//NONSGML v1.0//EN
CALSCALE:GREGORIAN
METHOD:PUBLISH
X-WR-CALNAME:SPÖ Leobendorf
X-ORIGINAL-URL:http://www.spoe-leobendorf.at
X-WR-CALDESC:Veranstaltungen für SPÖ Leobendorf
BEGIN:VTIMEZONE
TZID:Europe/Helsinki
BEGIN:DAYLIGHT
TZOFFSETFROM:+0200
TZOFFSETTO:+0300
TZNAME:EEST
DTSTART:20150329T010000
END:DAYLIGHT
BEGIN:STANDARD
TZOFFSETFROM:+0300
TZOFFSETTO:+0200
TZNAME:EET
DTSTART:20151025T010000
END:STANDARD
END:VTIMEZONE
BEGIN:VEVENT
DTSTART;TZID=Europe/Helsinki:20150123T170000
DTEND;TZID=Europe/Helsinki:20150123T170000
DTSTAMP:20260421T074156
CREATED:20150114T173358Z
LAST-MODIFIED:20150116T191910Z
UID:393-1422032400-1422032400@www.spoe-leobendorf.at
SUMMARY:Wahlveranstaltung Leobendorf
DESCRIPTION:Wir möchten Sie zu unserer Wahlveranstaltung am 23.01.2015 um 17:99 Uhr im Garten des Volksheimes Leobendorf herzlich einladen. Hier haben Sie die Möglichkeit unser Team in persönlichen Gesprächen kennenzulernen und mit Ihnen über mögliche Wünsche\, Sorgen oder Anliegen zu sprechen. Für das leibliche Wohl wird von Seiten des „Goldenen Bründl’s“ bestens gesorgt! \nAls Gastredner konnten wir niemanden geringeren als Rudi Kaske\, Präsident der Arbeiterkammer und Bundesarbeiterkammer Österreichs\, gewinnen. Es bietet sich somit auch die Gelegenheit aktuelle Themen\, wie z.B. die Steuerreform 2015\, mit ihm persönlich zu besprechen. \nMit jungem Zeitgeist und frischen Ideen werden wir Politik auf Höhe der Zeit – aber immer in Bewusstsein unserer sozialdemokratischen Grundwerte – gestalten. \nWir freuen uns auf Ihr Kommen und auf spannende Gespräche!
URL:http://www.spoe-leobendorf.at/event/wahlveranstaltung-leobendorf/
LOCATION:Volksheim Leobendorf\, Rohrbacher Straße 5\, Leobendorf\, 2100
ATTACH;FMTTYPE=image/jpeg:http://www.spoe-leobendorf.at/wp-content/uploads/2015/01/Wahlveranstaltung_leobendorf.jpg
END:VEVENT
END:VCALENDAR